BEGIN:VCALENDAR
VERSION:2.0
PRODID:-//Your Overseas Home - ECPv6.15.11//NONSGML v1.0//EN
CALSCALE:GREGORIAN
METHOD:PUBLISH
X-ORIGINAL-URL:https://www.youroverseashome.com
X-WR-CALDESC:Events for Your Overseas Home
REFRESH-INTERVAL;VALUE=DURATION:PT1H
X-Robots-Tag:noindex
X-PUBLISHED-TTL:PT1H
BEGIN:VTIMEZONE
TZID:Europe/London
BEGIN:DAYLIGHT
TZOFFSETFROM:+0000
TZOFFSETTO:+0100
TZNAME:BST
DTSTART:20220327T010000
END:DAYLIGHT
BEGIN:STANDARD
TZOFFSETFROM:+0100
TZOFFSETTO:+0000
TZNAME:GMT
DTSTART:20221030T010000
END:STANDARD
BEGIN:DAYLIGHT
TZOFFSETFROM:+0000
TZOFFSETTO:+0100
TZNAME:BST
DTSTART:20230326T010000
END:DAYLIGHT
BEGIN:STANDARD
TZOFFSETFROM:+0100
TZOFFSETTO:+0000
TZNAME:GMT
DTSTART:20231029T010000
END:STANDARD
BEGIN:DAYLIGHT
TZOFFSETFROM:+0000
TZOFFSETTO:+0100
TZNAME:BST
DTSTART:20240331T010000
END:DAYLIGHT
BEGIN:STANDARD
TZOFFSETFROM:+0100
TZOFFSETTO:+0000
TZNAME:GMT
DTSTART:20241027T010000
END:STANDARD
END:VTIMEZONE
BEGIN:VEVENT
DTSTART;TZID=Europe/London:20230511T163000
DTEND;TZID=Europe/London:20230511T173000
DTSTAMP:20260423T052159
CREATED:20230502T133759Z
LAST-MODIFIED:20230502T133759Z
UID:10000260-1683822600-1683826200@www.youroverseashome.com
SUMMARY:An introduction to buying property in Cyprus
DESCRIPTION:In this webinar we’ll be talking to three expert services that can help you on your journey to being a Cypriot homeowner. Guest speakers include Cyprus Emerald (real estate)\, Polycarpos Phillipou Law (legal firm) and Smart Currency Exchange (currency specialist). There will be plenty opportunity to ask questions\, so please come prepared!
URL:https://www.youroverseashome.com/event/an-introduction-to-buying-property-in-cyprus/
CATEGORIES:Cyprus
ATTACH;FMTTYPE=image/png:https://www.youroverseashome.com/cdn-cgi/imagedelivery/ydQrSxxeWMqiiuwLdb7wWg/e30d8b4c-295a-4d50-04eb-174ecd343c00/w=9999
END:VEVENT
END:VCALENDAR