BEGIN:VCALENDAR
VERSION:2.0
PRODID:-//Your Overseas Home - ECPv6.15.11//NONSGML v1.0//EN
CALSCALE:GREGORIAN
METHOD:PUBLISH
X-ORIGINAL-URL:https://www.youroverseashome.com
X-WR-CALDESC:Events for Your Overseas Home
REFRESH-INTERVAL;VALUE=DURATION:PT1H
X-Robots-Tag:noindex
X-PUBLISHED-TTL:PT1H
BEGIN:VTIMEZONE
TZID:Europe/London
BEGIN:DAYLIGHT
TZOFFSETFROM:+0000
TZOFFSETTO:+0100
TZNAME:BST
DTSTART:20220327T010000
END:DAYLIGHT
BEGIN:STANDARD
TZOFFSETFROM:+0100
TZOFFSETTO:+0000
TZNAME:GMT
DTSTART:20221030T010000
END:STANDARD
BEGIN:DAYLIGHT
TZOFFSETFROM:+0000
TZOFFSETTO:+0100
TZNAME:BST
DTSTART:20230326T010000
END:DAYLIGHT
BEGIN:STANDARD
TZOFFSETFROM:+0100
TZOFFSETTO:+0000
TZNAME:GMT
DTSTART:20231029T010000
END:STANDARD
BEGIN:DAYLIGHT
TZOFFSETFROM:+0000
TZOFFSETTO:+0100
TZNAME:BST
DTSTART:20240331T010000
END:DAYLIGHT
BEGIN:STANDARD
TZOFFSETFROM:+0100
TZOFFSETTO:+0000
TZNAME:GMT
DTSTART:20241027T010000
END:STANDARD
END:VTIMEZONE
BEGIN:VEVENT
DTSTART;TZID=Europe/London:20230202T163000
DTEND;TZID=Europe/London:20230202T170000
DTSTAMP:20260423T103939
CREATED:20230118T173300Z
LAST-MODIFIED:20230118T173300Z
UID:10000316-1675355400-1675357200@www.youroverseashome.com
SUMMARY:The Financial and Tax essentials of moving to Cyprus
DESCRIPTION:Get clear\, unbiased\, and jargon-free financial advice on property buying in Cyprus. This webinar focuses on the taxes you may have to pay\, how to access your pension and other financial considerations.
URL:https://www.youroverseashome.com/event/the-financial-and-tax-essentials-of-moving-to-cyprus/
CATEGORIES:Cyprus
ATTACH;FMTTYPE=image/png:https://www.youroverseashome.com/cdn-cgi/imagedelivery/ydQrSxxeWMqiiuwLdb7wWg/e661f183-7038-4994-445d-52c1e226e500/w=9999
END:VEVENT
END:VCALENDAR