BEGIN:VCALENDAR
VERSION:2.0
PRODID:-//Your Overseas Home - ECPv6.15.11//NONSGML v1.0//EN
CALSCALE:GREGORIAN
METHOD:PUBLISH
X-ORIGINAL-URL:https://www.youroverseashome.com
X-WR-CALDESC:Events for Your Overseas Home
REFRESH-INTERVAL;VALUE=DURATION:PT1H
X-Robots-Tag:noindex
X-PUBLISHED-TTL:PT1H
BEGIN:VTIMEZONE
TZID:Europe/London
BEGIN:DAYLIGHT
TZOFFSETFROM:+0000
TZOFFSETTO:+0100
TZNAME:BST
DTSTART:20210328T010000
END:DAYLIGHT
BEGIN:STANDARD
TZOFFSETFROM:+0100
TZOFFSETTO:+0000
TZNAME:GMT
DTSTART:20211031T010000
END:STANDARD
BEGIN:DAYLIGHT
TZOFFSETFROM:+0000
TZOFFSETTO:+0100
TZNAME:BST
DTSTART:20220327T010000
END:DAYLIGHT
BEGIN:STANDARD
TZOFFSETFROM:+0100
TZOFFSETTO:+0000
TZNAME:GMT
DTSTART:20221030T010000
END:STANDARD
BEGIN:DAYLIGHT
TZOFFSETFROM:+0000
TZOFFSETTO:+0100
TZNAME:BST
DTSTART:20230326T010000
END:DAYLIGHT
BEGIN:STANDARD
TZOFFSETFROM:+0100
TZOFFSETTO:+0000
TZNAME:GMT
DTSTART:20231029T010000
END:STANDARD
END:VTIMEZONE
BEGIN:VEVENT
DTSTART;TZID=Europe/London:20220922T163000
DTEND;TZID=Europe/London:20220922T170000
DTSTAMP:20260423T191249
CREATED:20220804T134603Z
LAST-MODIFIED:20220811T132828Z
UID:10000294-1663864200-1663866000@www.youroverseashome.com
SUMMARY:Workshop: Learn whether you need a visa when buying in Cyprus
DESCRIPTION:
URL:https://www.youroverseashome.com/event/cyprus-specialist-topic-2/
CATEGORIES:Cyprus
ATTACH;FMTTYPE=image/jpeg:https://www.youroverseashome.com/cdn-cgi/imagedelivery/ydQrSxxeWMqiiuwLdb7wWg/5f9b7057-3c35-4e72-4149-e2cec7c8de00/w=9999
END:VEVENT
END:VCALENDAR