BEGIN:VCALENDAR
VERSION:2.0
PRODID:-//Your Overseas Home - ECPv6.15.11//NONSGML v1.0//EN
CALSCALE:GREGORIAN
METHOD:PUBLISH
X-ORIGINAL-URL:https://www.youroverseashome.com
X-WR-CALDESC:Events for Your Overseas Home
REFRESH-INTERVAL;VALUE=DURATION:PT1H
X-Robots-Tag:noindex
X-PUBLISHED-TTL:PT1H
BEGIN:VTIMEZONE
TZID:Europe/London
BEGIN:DAYLIGHT
TZOFFSETFROM:+0000
TZOFFSETTO:+0100
TZNAME:BST
DTSTART:20250330T010000
END:DAYLIGHT
BEGIN:STANDARD
TZOFFSETFROM:+0100
TZOFFSETTO:+0000
TZNAME:GMT
DTSTART:20251026T010000
END:STANDARD
BEGIN:DAYLIGHT
TZOFFSETFROM:+0000
TZOFFSETTO:+0100
TZNAME:BST
DTSTART:20260329T010000
END:DAYLIGHT
BEGIN:STANDARD
TZOFFSETFROM:+0100
TZOFFSETTO:+0000
TZNAME:GMT
DTSTART:20261025T010000
END:STANDARD
BEGIN:DAYLIGHT
TZOFFSETFROM:+0000
TZOFFSETTO:+0100
TZNAME:BST
DTSTART:20270328T010000
END:DAYLIGHT
BEGIN:STANDARD
TZOFFSETFROM:+0100
TZOFFSETTO:+0000
TZNAME:GMT
DTSTART:20271031T010000
END:STANDARD
END:VTIMEZONE
BEGIN:VEVENT
DTSTART;TZID=Europe/London:20260423T150000
DTEND;TZID=Europe/London:20260423T153000
DTSTAMP:20260420T221729
CREATED:20260331T153419Z
LAST-MODIFIED:20260331T153419Z
UID:10000591-1776956400-1776958200@www.youroverseashome.com
SUMMARY:Buying in Greece explained – law\, taxes and residency made clear
DESCRIPTION:Imagine finding your dream property in Greece\, only to be faced with unfamiliar laws\, unexpected taxes and paperwork you don’t fully understand. It’s a situation many buyers find themselves in – from uncertainty around legal checks to delays caused by missing documents or unclear ownership. Buying property in Greece can feel like a minefield\, largely because the system works differently from the UK. \n\n\n\nIn this clear and practical 30-minute webinar\, we break the legal side into simple\, manageable steps so you understand the process from start to finish. Led by an expert lawyer from KPAG Kosmidis & Partners\, this session offers straightforward guidance for international buyers. \n\n\n\nIn this webinar\, we’ll cover: \n\n\n\n\nThe legal steps to buying property in Greece\n\n\n\nWhy an independent lawyer matters and how to avoid risks\n\n\n\nHow to get a Greek tax number (AFM)\n\n\n\nPurchase costs\, taxes and ongoing obligations\n\n\n\nGreek residency options and longer-term stays\n\n\n\nKey considerations when relocating\n\n\n\nLive Q&As\n\n\n\n\nRegistration is free\, so sign up today. \n\n\n\nAbout KPAG \n\n\n\nKPAG is a Thessaloniki-based law firm\, specialising in international and cross-border legal matters since 1992\, and supporting buyers across Europe with clear\, practical advice.
URL:https://www.youroverseashome.com/event/webinar-buying-in-greece/
CATEGORIES:Greece
ATTACH;FMTTYPE=image/jpeg:https://www.youroverseashome.com/cdn-cgi/imagedelivery/ydQrSxxeWMqiiuwLdb7wWg/www.youroverseashome.com/2026/03/Live-Webinar-Thumbnails-Autosaved.jpg/w=9999
END:VEVENT
END:VCALENDAR