BEGIN:VCALENDAR
VERSION:2.0
PRODID:-//Your Overseas Home - ECPv6.15.11//NONSGML v1.0//EN
CALSCALE:GREGORIAN
METHOD:PUBLISH
X-ORIGINAL-URL:https://www.youroverseashome.com
X-WR-CALDESC:Events for Your Overseas Home
REFRESH-INTERVAL;VALUE=DURATION:PT1H
X-Robots-Tag:noindex
X-PUBLISHED-TTL:PT1H
BEGIN:VTIMEZONE
TZID:Europe/London
BEGIN:DAYLIGHT
TZOFFSETFROM:+0000
TZOFFSETTO:+0100
TZNAME:BST
DTSTART:20250330T010000
END:DAYLIGHT
BEGIN:STANDARD
TZOFFSETFROM:+0100
TZOFFSETTO:+0000
TZNAME:GMT
DTSTART:20251026T010000
END:STANDARD
BEGIN:DAYLIGHT
TZOFFSETFROM:+0000
TZOFFSETTO:+0100
TZNAME:BST
DTSTART:20260329T010000
END:DAYLIGHT
BEGIN:STANDARD
TZOFFSETFROM:+0100
TZOFFSETTO:+0000
TZNAME:GMT
DTSTART:20261025T010000
END:STANDARD
BEGIN:DAYLIGHT
TZOFFSETFROM:+0000
TZOFFSETTO:+0100
TZNAME:BST
DTSTART:20270328T010000
END:DAYLIGHT
BEGIN:STANDARD
TZOFFSETFROM:+0100
TZOFFSETTO:+0000
TZNAME:GMT
DTSTART:20271031T010000
END:STANDARD
END:VTIMEZONE
BEGIN:VEVENT
DTSTART;TZID=Europe/London:20260416T154500
DTEND;TZID=Europe/London:20260416T161500
DTSTAMP:20260420T204934
CREATED:20260223T095014Z
LAST-MODIFIED:20260223T095015Z
UID:10000585-1776354300-1776356100@www.youroverseashome.com
SUMMARY:Avoid wasted viewing trips – plan your France search properly
DESCRIPTION:A viewing trip should mark the exciting moment when your plan to own a home in France starts to feel real. Yet with so many regions\, price points and lifestyles to consider\, knowing where to focus can quickly become overwhelming. A poor choice can cost you time\, energy and money. \n\n\n\nIn this free 30-minute webinar\, an expert buying agent from Vesper Immobilier will explain why a well-planned viewing trip is one of the most important stages of your France property search. They work with buyers across the country – particularly those unsure where to invest – offering hands-on guidance and clarity before they travel. \n\n\n\nYou’ll learn: \n\n\n\n\nThe key questions to answer before booking\n\n\n\nHow French regions differ in lifestyle\, climate and price points\n\n\n\nWhy narrowing your focus before travelling saves time and frustration\n\n\n\nWhat a structured viewing trip should include\n\n\n\nHow a property finder matches location to your budget and goals\n\n\n\n\nThere will also be time for you to ask your own questions. \n\n\n\nRegistration is free\, so sign up today. \n\n\n\nAbout Vesper Immobilier \n\n\n\nVesper Immobilier is a property consultant in France’s Languedoc region. They are an estate agency that also provides certified valuations\, all under one expert roof.
URL:https://www.youroverseashome.com/event/webinar-avoid-wasted-viewing-trips-to-france/
CATEGORIES:France
ATTACH;FMTTYPE=image/jpeg:https://www.youroverseashome.com/cdn-cgi/imagedelivery/ydQrSxxeWMqiiuwLdb7wWg/www.youroverseashome.com/2026/02/Live-Webinar-Thumbnails-6.jpg/w=9999
END:VEVENT
BEGIN:VEVENT
DTSTART;TZID=Europe/London:20260416T170000
DTEND;TZID=Europe/London:20260416T173000
DTSTAMP:20260420T204934
CREATED:20260325T175210Z
LAST-MODIFIED:20260331T133412Z
UID:10000589-1776358800-1776360600@www.youroverseashome.com
SUMMARY:How overseas buyers can speed up mortgage approval in Portugal
DESCRIPTION:Getting a mortgage in Portugal isn’t quite the same as what you may be used to at home. Different lending criteria\, deposit expectations and timelines can catch overseas buyers off guard – and without the right preparation\, finance can become one of the biggest causes of delay. \n\n\n\nIn this 30-minute session\, an expert from DS Mortgages will guide you through the lending landscape for overseas buyers in Portugal\, helping you move forward with more clarity and fewer surprises. \n\n\n\nIn this webinar\, you’ll learn: \n\n\n\n\nHow finance affects your buying timeline\n\n\n\nHow mortgages in Portugal differ from UK lending\n\n\n\nTypical deposits\, rates and loan terms\n\n\n\nEligibility for residents and non-residents\n\n\n\nHow brokers and banks work together\n\n\n\nManaging currency risk when borrowing\n\n\n\n\nYou will also have the opportunity to ask your own questions – live. \n\n\n\nRegistration is free\, so sign up today. \n\n\n\nAbout DS Mortgages \n\n\n\nDS Mortgages is a Portuguese broker offering independent\, tailored advice – helping buyers access competitive loan-to-value options with terms tailored to their circumstances.
URL:https://www.youroverseashome.com/event/webinar-portugal-mortgage-approval/
CATEGORIES:Portugal
ATTACH;FMTTYPE=image/jpeg:https://www.youroverseashome.com/cdn-cgi/imagedelivery/ydQrSxxeWMqiiuwLdb7wWg/www.youroverseashome.com/2026/03/Live-Webinar-Thumbnails-3.jpg/w=9999
END:VEVENT
END:VCALENDAR