BEGIN:VCALENDAR
VERSION:2.0
PRODID:-//Your Overseas Home - ECPv6.15.11//NONSGML v1.0//EN
CALSCALE:GREGORIAN
METHOD:PUBLISH
X-ORIGINAL-URL:https://www.youroverseashome.com
X-WR-CALDESC:Events for Your Overseas Home
REFRESH-INTERVAL;VALUE=DURATION:PT1H
X-Robots-Tag:noindex
X-PUBLISHED-TTL:PT1H
BEGIN:VTIMEZONE
TZID:Europe/London
BEGIN:DAYLIGHT
TZOFFSETFROM:+0000
TZOFFSETTO:+0100
TZNAME:BST
DTSTART:20250330T010000
END:DAYLIGHT
BEGIN:STANDARD
TZOFFSETFROM:+0100
TZOFFSETTO:+0000
TZNAME:GMT
DTSTART:20251026T010000
END:STANDARD
BEGIN:DAYLIGHT
TZOFFSETFROM:+0000
TZOFFSETTO:+0100
TZNAME:BST
DTSTART:20260329T010000
END:DAYLIGHT
BEGIN:STANDARD
TZOFFSETFROM:+0100
TZOFFSETTO:+0000
TZNAME:GMT
DTSTART:20261025T010000
END:STANDARD
BEGIN:DAYLIGHT
TZOFFSETFROM:+0000
TZOFFSETTO:+0100
TZNAME:BST
DTSTART:20270328T010000
END:DAYLIGHT
BEGIN:STANDARD
TZOFFSETFROM:+0100
TZOFFSETTO:+0000
TZNAME:GMT
DTSTART:20271031T010000
END:STANDARD
END:VTIMEZONE
BEGIN:VEVENT
DTSTART;TZID=Europe/London:20260226T150000
DTEND;TZID=Europe/London:20260226T153000
DTSTAMP:20260425T154311
CREATED:20260205T170222Z
LAST-MODIFIED:20260226T131758Z
UID:10000580-1772118000-1772119800@www.youroverseashome.com
SUMMARY:How Italy’s property market really works for overseas buyers
DESCRIPTION:In Italy\, a property purchase in Tuscany can look nothing like one in Puglia or Sicily – and that’s where many overseas buyers go wrong. Prices\, processes and risks vary widely by region\, and overseas buyers often struggle with language barriers\, fragmented listings and local rules that aren’t always obvious. \n\n\n\nIn this free\, 30-minute webinar\, an experienced buying agent from Horus RE explains how the Italian property market really works\, taking a clear\, regional view. You’ll learn how to compare areas\, understand true market value and avoid common mistakes\, whether you’re drawn to Tuscany\, Lombardy\, Puglia\, Sicily or beyond. \n\n\n\nIn this webinar\, we’ll cover: \n\n\n\n\nHow the buying process works in practice\, including fees and timelines\n\n\n\nHow buying property in Italy differs from other European markets\n\n\n\nKey regional differences and what they mean for buyers\n\n\n\nTypical motivations by area – lifestyle\, relocation or long-term investment\n\n\n\nCommon pitfalls for foreign buyers and how a buying agent helps\n\n\n\nYour own questions\, answered live\n\n\n\n\nAbout Horus RE\n\n\n\nFounded over 20 years ago in Trento\, Horus RE has grown from a local agency into a modern\, buyer-focused estate agent working across Italy. Combining traditional brokerage values with technology and strong local presence\, their team prioritises customer care\, trusted relationships and on-the-ground knowledge. They work across residential\, commercial and tourist property\, offering both sales and tailored property search services for overseas buyers.
URL:https://www.youroverseashome.com/event/webinar-how-italys-property-market-works-for-overseas-buyers/
CATEGORIES:Italy
ATTACH;FMTTYPE=image/jpeg:https://www.youroverseashome.com/cdn-cgi/imagedelivery/ydQrSxxeWMqiiuwLdb7wWg/www.youroverseashome.com/2026/02/Live-Webinar-Thumbnails-5.jpg/w=9999
END:VEVENT
BEGIN:VEVENT
DTSTART;TZID=Europe/London:20260226T154500
DTEND;TZID=Europe/London:20260226T161500
DTSTAMP:20260425T154311
CREATED:20260203T131502Z
LAST-MODIFIED:20260203T131502Z
UID:10000583-1772120700-1772122500@www.youroverseashome.com
SUMMARY:The 2026 guide to the Cyprus golden visa
DESCRIPTION:With rules changing and opinions everywhere\, it’s hard to know whether the Cyprus golden visa is still the right move – or how to qualify without an expensive misstep. If you want clear answers before committing serious capital\, this 30-minute webinar is a smart place to start. \n\n\n\nJoin Marina Omirou from Omirou Law as she breaks down how the Cyprus golden visa works in 2026\, what’s changed and how to approach the process with confidence and legal certainty. This is practical guidance from a lawyer who works with international buyers every day. \n\n\n\nIn this free webinar\, you’ll learn about: \n\n\n\n\nCurrent eligibility criteria for the Cyprus golden visa\n\n\n\nQualifying investment routes and minimum thresholds\n\n\n\nCommon legal and compliance pitfalls – and how to avoid them\n\n\n\nRealistic timelines\, documentation and application steps\n\n\n\nHow Cyprus compares with other EU residency-by-investment options\n\n\n\n\nThere will also be time for your questions at the end. \n\n\n\nAbout Omirou \n\n\n\nOmirou & Omirou L.L.C. is a boutique Cyprus law firm established in 1974\, with its main office in Paphos and a strong nationwide network. The firm is widely trusted by international buyers and high-net-worth individuals for clear\, practical legal advice\, particularly in immigration\, residency and property matters. Known for its professionalism and integrity\, Omirou Law focuses on long-term client relationships and delivers personalised legal guidance that supports confident\, well-informed decisions.
URL:https://www.youroverseashome.com/event/webinar-the-2026-guide-to-the-cyprus-golden-visa/
CATEGORIES:Cyprus
ATTACH;FMTTYPE=image/jpeg:https://www.youroverseashome.com/cdn-cgi/imagedelivery/ydQrSxxeWMqiiuwLdb7wWg/www.youroverseashome.com/2026/02/Live-Webinar-Thumbnails-3.jpg/w=9999
END:VEVENT
END:VCALENDAR