BEGIN:VCALENDAR
VERSION:2.0
PRODID:-//Your Overseas Home - ECPv6.15.11//NONSGML v1.0//EN
CALSCALE:GREGORIAN
METHOD:PUBLISH
X-ORIGINAL-URL:https://www.youroverseashome.com
X-WR-CALDESC:Events for Your Overseas Home
REFRESH-INTERVAL;VALUE=DURATION:PT1H
X-Robots-Tag:noindex
X-PUBLISHED-TTL:PT1H
BEGIN:VTIMEZONE
TZID:Europe/London
BEGIN:DAYLIGHT
TZOFFSETFROM:+0000
TZOFFSETTO:+0100
TZNAME:BST
DTSTART:20250330T010000
END:DAYLIGHT
BEGIN:STANDARD
TZOFFSETFROM:+0100
TZOFFSETTO:+0000
TZNAME:GMT
DTSTART:20251026T010000
END:STANDARD
BEGIN:DAYLIGHT
TZOFFSETFROM:+0000
TZOFFSETTO:+0100
TZNAME:BST
DTSTART:20260329T010000
END:DAYLIGHT
BEGIN:STANDARD
TZOFFSETFROM:+0100
TZOFFSETTO:+0000
TZNAME:GMT
DTSTART:20261025T010000
END:STANDARD
BEGIN:DAYLIGHT
TZOFFSETFROM:+0000
TZOFFSETTO:+0100
TZNAME:BST
DTSTART:20270328T010000
END:DAYLIGHT
BEGIN:STANDARD
TZOFFSETFROM:+0100
TZOFFSETTO:+0000
TZNAME:GMT
DTSTART:20271031T010000
END:STANDARD
END:VTIMEZONE
BEGIN:VEVENT
DTSTART;TZID=Europe/London:20260219T150000
DTEND;TZID=Europe/London:20260219T153000
DTSTAMP:20260425T195930
CREATED:20260203T114905Z
LAST-MODIFIED:20260216T072557Z
UID:10000579-1771513200-1771515000@www.youroverseashome.com
SUMMARY:How to plan a Portugal viewing trip that leads to clarity\, not confusion
DESCRIPTION:Booking a viewing trip in Portugal should bring you closer to a decision\, not leave you feeling more uncertain. Yet many buyers try to see too much\, cover too many areas and speak to too many agents\, only to return home with a head full of options and no clear next step. \n\n\n\nIn this focused 30-minute webinar\, an experienced Algarve-based estate agent from Ideal Homes Portugal explains how a well-structured Portugal property viewing trip can turn time on the ground into real progress. Drawing on years of helping international buyers\, they’ll show how narrowing your focus to one area and preparing properly before you travel leads to calmer\, more confident decisions. \n\n\n\nYou’ll learn: \n\n\n\n\nHow to leave Portugal feeling informed\, not overwhelmed\n\n\n\nWhy sticking to one area leads to better buying outcomes\n\n\n\nHow Ideal Homes Portugal plans viewing trips for clarity and efficiency\n\n\n\nWhat to prepare before you arrive to make the most of your time\n\n\n\nCommon viewing trip mistakes and how to avoid them\n\n\n\n\nYou’ll also have the chance to ask your own questions\, live. \n\n\n\nIdeal Homes Portugal is a full-service estate agency based in the Algarve\, supporting international buyers with holiday homes\, relocations and investments across southern Portugal. Their multilingual team offers trusted advice\, tailored support and local insight to make your property journey simple and stress-free.
URL:https://www.youroverseashome.com/event/webinar-portugal-viewing-trip/
CATEGORIES:Portugal
ATTACH;FMTTYPE=image/jpeg:https://www.youroverseashome.com/cdn-cgi/imagedelivery/ydQrSxxeWMqiiuwLdb7wWg/www.youroverseashome.com/2026/02/Live-Webinar-Thumbnails.jpg/w=9999
END:VEVENT
BEGIN:VEVENT
DTSTART;TZID=Europe/London:20260219T154500
DTEND;TZID=Europe/London:20260219T164500
DTSTAMP:20260425T195930
CREATED:20260204T094752Z
LAST-MODIFIED:20260204T094753Z
UID:10000582-1771515900-1771519500@www.youroverseashome.com
SUMMARY:First-time buyers’ guide to France – process\, pitfalls and costs
DESCRIPTION:Buying your first property in France shouldn’t feel like a leap into the unknown – but for many buyers\, that’s exactly how it feels. A notaire-led legal system\, unfamiliar timelines and costs that don’t always show up on the listing can leave you unsure where to start. This practical\, straight-talking webinar is designed to give you clarity before you commit. \n\n\n\nOver 60 minutes\, our panel of experts will walk you through how buying property in France really works\, and how to avoid the mistakes that catch out first-time overseas buyers. You’ll hear from a currency expert at Smart Currency Exchange\, a lawyer from Tees Law and a local agent from Halkin Riviera\, each sharing insight from years of helping British buyers succeed in France. \n\n\n\nIn this webinar\, we’ll cover: \n\n\n\n\nHow the French buying process works\, from offer to completion\n\n\n\nThe role of the notaire and other professionals\n\n\n\nTypical costs\, taxes and fees buyers often overlook\n\n\n\nCommon first-time buyer mistakes and how to avoid them\n\n\n\nChoosing regions\, budgets and property types with confidence\n\n\n\nYour own questions\n\n\n\n\nThis session is ideal if you’re researching buying property in France for the first time and want a clear\, reliable starting point.
URL:https://www.youroverseashome.com/event/france-first-time-buyers-guide-to-france/
CATEGORIES:France
ATTACH;FMTTYPE=image/jpeg:https://www.youroverseashome.com/cdn-cgi/imagedelivery/ydQrSxxeWMqiiuwLdb7wWg/www.youroverseashome.com/2026/02/Live-Webinar-Thumbnails-1.jpg/w=9999
END:VEVENT
BEGIN:VEVENT
DTSTART;TZID=Europe/London:20260219T170000
DTEND;TZID=Europe/London:20260219T173000
DTSTAMP:20260425T195930
CREATED:20260203T121048Z
LAST-MODIFIED:20260203T121049Z
UID:10000581-1771520400-1771522200@www.youroverseashome.com
SUMMARY:Moving to Spain after the golden visa – what non-EU citizens can still do
DESCRIPTION:Has the end of the golden visa and sensationalist headlines about proposed property taxes made you question whether moving to Spain is still a safe or realistic plan? For many non-EU buyers\, that uncertainty has led to real doubts about whether relocating is still possible at all. \n\n\n\nIn this clear\, 30-minute webinar\, a senior lawyer from JLCA Lawyers cuts through the speculation and explains what the changes really mean. Drawing on years of experience advising international clients\, this session focuses on the practical\, legal routes that remain firmly in place for those planning a move. \n\n\n\nYou’ll come away with calm\, reliable guidance on moving to Spain as a non-EU citizen\, and a better understanding of how to plan with confidence rather than fear. \n\n\n\nIn this webinar\, we’ll cover: \n\n\n\n\nPractical steps for relocating to Spain today\n\n\n\nWhat changed with the Spanish golden visa – and what did not\n\n\n\nVisa and residency options still open to non-EU citizens\n\n\n\nHow income\, work and lifestyle shape the right route\n\n\n\nCommon myths fuelled by recent media coverage\n\n\n\nYour own questions\, answered live\n\n\n\n\nAbout JLCA\n\n\n\nJLCA Lawyers provides trusted legal guidance to international clients across Spain\, specialising in property\, corporate and immigration law.
URL:https://www.youroverseashome.com/event/webinar-moving-to-spain-after-the-golden-visa/
CATEGORIES:Spain
ATTACH;FMTTYPE=image/jpeg:https://www.youroverseashome.com/cdn-cgi/imagedelivery/ydQrSxxeWMqiiuwLdb7wWg/www.youroverseashome.com/2026/02/Live-Webinar-Thumbnails-2.jpg/w=9999
END:VEVENT
END:VCALENDAR