BEGIN:VCALENDAR
VERSION:2.0
PRODID:-//Your Overseas Home - ECPv6.15.11//NONSGML v1.0//EN
CALSCALE:GREGORIAN
METHOD:PUBLISH
X-ORIGINAL-URL:https://www.youroverseashome.com
X-WR-CALDESC:Events for Your Overseas Home
REFRESH-INTERVAL;VALUE=DURATION:PT1H
X-Robots-Tag:noindex
X-PUBLISHED-TTL:PT1H
BEGIN:VTIMEZONE
TZID:Europe/London
BEGIN:DAYLIGHT
TZOFFSETFROM:+0000
TZOFFSETTO:+0100
TZNAME:BST
DTSTART:20250330T010000
END:DAYLIGHT
BEGIN:STANDARD
TZOFFSETFROM:+0100
TZOFFSETTO:+0000
TZNAME:GMT
DTSTART:20251026T010000
END:STANDARD
BEGIN:DAYLIGHT
TZOFFSETFROM:+0000
TZOFFSETTO:+0100
TZNAME:BST
DTSTART:20260329T010000
END:DAYLIGHT
BEGIN:STANDARD
TZOFFSETFROM:+0100
TZOFFSETTO:+0000
TZNAME:GMT
DTSTART:20261025T010000
END:STANDARD
BEGIN:DAYLIGHT
TZOFFSETFROM:+0000
TZOFFSETTO:+0100
TZNAME:BST
DTSTART:20270328T010000
END:DAYLIGHT
BEGIN:STANDARD
TZOFFSETFROM:+0100
TZOFFSETTO:+0000
TZNAME:GMT
DTSTART:20271031T010000
END:STANDARD
END:VTIMEZONE
BEGIN:VEVENT
DTSTART;TZID=Europe/London:20260205T154500
DTEND;TZID=Europe/London:20260205T161500
DTSTAMP:20260425T042543
CREATED:20260108T163102Z
LAST-MODIFIED:20260108T163103Z
UID:10000577-1770306300-1770308100@www.youroverseashome.com
SUMMARY:Financing your French dream – mortgages made easy
DESCRIPTION:Many overseas buyers only realise there’s a problem once they’ve had an offer accepted on a property in France. A bank asks for a higher deposit than expected\, questions overseas income or rejects an application that seemed straightforward at home. Suddenly\, the clock is ticking and your plans are at risk. This short\, practical session explains how French mortgages really work for non-residents\, so you can line up finance before it becomes the weak link in your purchase. \n\n\n\nIn this free 30-minute webinar\, a mortgage expert from Société 2 Courtage explains how French mortgages really work for international buyers. With years of experience supporting non-residents\, they’ll outline what lenders look for and how to prepare early\, so funding supports your plans rather than holding them back. \n\n\n\nYou’ll hear about: \n\n\n\n\nWhen to arrange finance alongside your property search\n\n\n\nHow French mortgages work for residents and non-residents\n\n\n\nTypical deposits\, interest rates and lending terms\n\n\n\nThe documents lenders expect and how to get them ready\n\n\n\nFixed versus variable rates and how repayments are structured\n\n\n\nCommon mistakes overseas buyers make and how to avoid them\n\n\n\n\nYou’ll also have the chance to ask your own questions – live. \n\n\n\nRegistration is free so sign up today. \n\n\n\nAbout Society2Courtage \n\n\n\nSociété 2 Courtage is a French mortgage brokerage specialising in helping international and non-resident buyers finance property in France. With over a decade of experience and hundreds of successful transactions\, their team works closely with French banks to secure competitive terms\, guiding clients clearly through every step of the mortgage process.
URL:https://www.youroverseashome.com/event/webinar-france-mortgages/
CATEGORIES:France
ATTACH;FMTTYPE=image/jpeg:https://www.youroverseashome.com/cdn-cgi/imagedelivery/ydQrSxxeWMqiiuwLdb7wWg/www.youroverseashome.com/2026/01/Live-Webinar-Thumbnails-4.jpg/w=9999
END:VEVENT
BEGIN:VEVENT
DTSTART;TZID=Europe/London:20260205T163000
DTEND;TZID=Europe/London:20260205T170000
DTSTAMP:20260425T042543
CREATED:20260105T161140Z
LAST-MODIFIED:20260105T161141Z
UID:10000574-1770309000-1770310800@www.youroverseashome.com
SUMMARY:Approved! Top tips for securing your French visa
DESCRIPTION:Many French visa applications fall down for avoidable reasons – and having the wrong healthcare cover is a big one. Add post-Brexit rule changes and conflicting advice online\, and it’s easy to feel unsure about what France actually expects from you. \n\n\n\nIn this free 30-minute webinar\, Fabien Pelissier from Fab Expat explains how visas and healthcare work for non-EU nationals planning to spend more than 90 days in France. Fabien supports buyers and movers through the visa process every day\, helping them avoid delays\, refusals and gaps in cover that can derail wider plans. \n\n\n\nYou’ll learn about: \n\n\n\n\nHow visas and health insurance fit into a wider property or relocation plan\n\n\n\nThe difference between short-stay and long-stay visas for France\n\n\n\nWhich visas need private health insurance and what counts as acceptable cover\n\n\n\nWhen and how you can access the French state healthcare system\n\n\n\nCommon mistakes that lead to delays or refusals\n\n\n\n\nThere will also be time at the end for your questions. \n\n\n\nRegistration is free\, so sign up today! \n\n\n\nFab Insurance has been supporting clients since 2015. They’ve partnered with a wide range of insurers and numerous providers worldwide\, to find affordable\, tailored solutions for every individual situation.
URL:https://www.youroverseashome.com/event/webinar-france-tips-for-securing-visa/
CATEGORIES:France
ATTACH;FMTTYPE=image/jpeg:https://www.youroverseashome.com/cdn-cgi/imagedelivery/ydQrSxxeWMqiiuwLdb7wWg/www.youroverseashome.com/2026/01/Live-Webinar-Thumbnails-1.jpg/w=9999
END:VEVENT
END:VCALENDAR