BEGIN:VCALENDAR
VERSION:2.0
PRODID:-//Your Overseas Home - ECPv6.15.11//NONSGML v1.0//EN
CALSCALE:GREGORIAN
METHOD:PUBLISH
X-ORIGINAL-URL:https://www.youroverseashome.com
X-WR-CALDESC:Events for Your Overseas Home
REFRESH-INTERVAL;VALUE=DURATION:PT1H
X-Robots-Tag:noindex
X-PUBLISHED-TTL:PT1H
BEGIN:VTIMEZONE
TZID:Europe/London
BEGIN:DAYLIGHT
TZOFFSETFROM:+0000
TZOFFSETTO:+0100
TZNAME:BST
DTSTART:20250330T010000
END:DAYLIGHT
BEGIN:STANDARD
TZOFFSETFROM:+0100
TZOFFSETTO:+0000
TZNAME:GMT
DTSTART:20251026T010000
END:STANDARD
BEGIN:DAYLIGHT
TZOFFSETFROM:+0000
TZOFFSETTO:+0100
TZNAME:BST
DTSTART:20260329T010000
END:DAYLIGHT
BEGIN:STANDARD
TZOFFSETFROM:+0100
TZOFFSETTO:+0000
TZNAME:GMT
DTSTART:20261025T010000
END:STANDARD
BEGIN:DAYLIGHT
TZOFFSETFROM:+0000
TZOFFSETTO:+0100
TZNAME:BST
DTSTART:20270328T010000
END:DAYLIGHT
BEGIN:STANDARD
TZOFFSETFROM:+0100
TZOFFSETTO:+0000
TZNAME:GMT
DTSTART:20271031T010000
END:STANDARD
END:VTIMEZONE
BEGIN:VEVENT
DTSTART;TZID=Europe/London:20260129T150000
DTEND;TZID=Europe/London:20260129T153000
DTSTAMP:20260425T042544
CREATED:20260108T141513Z
LAST-MODIFIED:20260108T141650Z
UID:10000573-1769698800-1769700600@www.youroverseashome.com
SUMMARY:Italy’s legal must-knows for overseas buyers
DESCRIPTION:You’ve found your dream home in Italy\, but before you sign on the dotted line\, it’s vital  that you know exactly what you’re agreeing to. From understanding contracts and deposits to navigating visa routes and notary requirements\, it’s easy for even the savviest buyer to get tripped up by red tape. \n\n\n\nIn this free 30-minute webinar\, legal expert Manlio Gervesi from MG Law will walk you through everything you need to know to buy property safely and confidently in Italy. You’ll also discover which visa or residency options could help you make your dream of living in Italy a reality – from the Elective Residency Visa to work permits and digital nomad pathways. \n\n\n\nYou’ll learn: \n\n\n\n\nThe key legal stages of an Italian property purchase\n\n\n\nCommon pitfalls for foreign buyers – and how to avoid them\n\n\n\nResidency and visa options for non-EU citizens\n\n\n\nHow property ownership supports your residency goals\n\n\n\nPractical guidance on taxes\, contracts and notaries\n\n\n\n\nYou’ll also have the chance to ask your own questions – live. \n\n\n\nRegistration is free\, so sign up today! \n\n\n\nAbout MG Law \n\n\n\nMG Law is a multilingual firm with offices across Italy and the US\, specialising in real estate\, tax\, immigration and citizenship for international clients.
URL:https://www.youroverseashome.com/event/italys-legal-must-knows-for-overseas-buyers/
ATTACH;FMTTYPE=image/jpeg:https://www.youroverseashome.com/cdn-cgi/imagedelivery/ydQrSxxeWMqiiuwLdb7wWg/www.youroverseashome.com/2026/01/Live-Webinar-Thumbnails-3.jpg/w=9999
END:VEVENT
BEGIN:VEVENT
DTSTART;TZID=Europe/London:20260129T163000
DTEND;TZID=Europe/London:20260129T170000
DTSTAMP:20260425T042544
CREATED:20251202T134426Z
LAST-MODIFIED:20251218T191307Z
UID:10000563-1769704200-1769706000@www.youroverseashome.com
SUMMARY:The 2026 guide to buying safely in Spain
DESCRIPTION:Buying a home is one thing – buying a home in another country is a whole different story. Which agents can you trust? Where are the best value locations? What hidden costs should you be ready for? Add Spain’s legal and tax rules to the mix and the whole process can feel really overwhelming. \n\n\n\nThat’s why we’ve teamed up with Paul Payne from MASA International for this helpful\, easy-to-follow webinar\, giving you clear guidance on every step of buying safely in Spain. \n\n\n\nIn this 30-minute session\, you’ll learn: \n\n\n\n\nCurrent market trends and what they mean for your plans\n\n\n\nHow MASA sources and vets properties across the Costa Blanca and wider coastal regions\n\n\n\nThe real costs of buying in Spain – taxes\, legal fees and what to budget for\n\n\n\nWhat motivates today’s buyers\, from retirement moves under €200k to holiday-let potential\n\n\n\nHow viewing trips work and what you can achieve in a few focused days\n\n\n\nThe key legal checks that help overseas buyers avoid common pitfalls\n\n\n\n\nYou’ll also have the chance to ask Paul your own questions – live. \n\n\n\nRegistration is free\, so save your spot today! \n\n\n\nMASA International has been guiding buyers since 1981\, helping more than 36\,000 people find a smoother\, safer route to their home in the sun.
URL:https://www.youroverseashome.com/event/the-2026-guide-to-buying-safely-in-spain/
CATEGORIES:Spain
ATTACH;FMTTYPE=image/jpeg:https://www.youroverseashome.com/cdn-cgi/imagedelivery/ydQrSxxeWMqiiuwLdb7wWg/www.youroverseashome.com/2025/12/Live-Webinar-Thumbnails.jpg/w=9999
END:VEVENT
BEGIN:VEVENT
DTSTART;TZID=Europe/London:20260129T163000
DTEND;TZID=Europe/London:20260129T170000
DTSTAMP:20260425T042544
CREATED:20251202T134426Z
LAST-MODIFIED:20251218T191307Z
UID:10000571-1769704200-1769706000@www.youroverseashome.com
SUMMARY:The 2026 guide to buying safely in Spain
DESCRIPTION:Buying a home is one thing – buying a home in another country is a whole different story. Which agents can you trust? Where are the best value locations? What hidden costs should you be ready for? Add Spain’s legal and tax rules to the mix and the whole process can feel really overwhelming. \n\n\n\nThat’s why we’ve teamed up with Paul Payne from MASA International for this helpful\, easy-to-follow webinar\, giving you clear guidance on every step of buying safely in Spain. \n\n\n\nIn this 30-minute session\, you’ll learn: \n\n\n\n\nCurrent market trends and what they mean for your plans\n\n\n\nHow MASA sources and vets properties across the Costa Blanca and wider coastal regions\n\n\n\nThe real costs of buying in Spain – taxes\, legal fees and what to budget for\n\n\n\nWhat motivates today’s buyers\, from retirement moves under €200k to holiday-let potential\n\n\n\nHow viewing trips work and what you can achieve in a few focused days\n\n\n\nThe key legal checks that help overseas buyers avoid common pitfalls\n\n\n\n\nYou’ll also have the chance to ask Paul your own questions – live. \n\n\n\nRegistration is free\, so save your spot today! \n\n\n\nMASA International has been guiding buyers since 1981\, helping more than 36\,000 people find a smoother\, safer route to their home in the sun.
URL:https://www.youroverseashome.com/event/the-2026-guide-to-buying-safely-in-spain/
CATEGORIES:Spain
ATTACH;FMTTYPE=image/jpeg:https://www.youroverseashome.com/cdn-cgi/imagedelivery/ydQrSxxeWMqiiuwLdb7wWg/www.youroverseashome.com/2025/12/Live-Webinar-Thumbnails.jpg/w=9999
END:VEVENT
END:VCALENDAR