BEGIN:VCALENDAR
VERSION:2.0
PRODID:-//Your Overseas Home - ECPv6.15.11//NONSGML v1.0//EN
CALSCALE:GREGORIAN
METHOD:PUBLISH
X-ORIGINAL-URL:https://www.youroverseashome.com
X-WR-CALDESC:Events for Your Overseas Home
REFRESH-INTERVAL;VALUE=DURATION:PT1H
X-Robots-Tag:noindex
X-PUBLISHED-TTL:PT1H
BEGIN:VTIMEZONE
TZID:Europe/London
BEGIN:DAYLIGHT
TZOFFSETFROM:+0000
TZOFFSETTO:+0100
TZNAME:BST
DTSTART:20240331T010000
END:DAYLIGHT
BEGIN:STANDARD
TZOFFSETFROM:+0100
TZOFFSETTO:+0000
TZNAME:GMT
DTSTART:20241027T010000
END:STANDARD
BEGIN:DAYLIGHT
TZOFFSETFROM:+0000
TZOFFSETTO:+0100
TZNAME:BST
DTSTART:20250330T010000
END:DAYLIGHT
BEGIN:STANDARD
TZOFFSETFROM:+0100
TZOFFSETTO:+0000
TZNAME:GMT
DTSTART:20251026T010000
END:STANDARD
BEGIN:DAYLIGHT
TZOFFSETFROM:+0000
TZOFFSETTO:+0100
TZNAME:BST
DTSTART:20260329T010000
END:DAYLIGHT
BEGIN:STANDARD
TZOFFSETFROM:+0100
TZOFFSETTO:+0000
TZNAME:GMT
DTSTART:20261025T010000
END:STANDARD
END:VTIMEZONE
BEGIN:VEVENT
DTSTART;TZID=Europe/London:20250123T160000
DTEND;TZID=Europe/London:20250123T163000
DTSTAMP:20260421T235211
CREATED:20241213T173526Z
LAST-MODIFIED:20250123T100340Z
UID:10000458-1737648000-1737649800@www.youroverseashome.com
SUMMARY:Sunshine and low tax: why moving to Cyprus makes financial sense
DESCRIPTION:So you’ve decided to move to Cyprus? Great choice! Not only does the island enjoy 340 sunny days a year\, but it’s cheaper to live there than in the UK or the US. \nAs well as benefitting from a lower cost of living\, you don’t have to pay as much tax in Cyprus. In our free\, 30-minute webinar\, tax expert Sybrand from Holborn Assets will explain how to make sure you’re not paying more than you should. \nThe session\, will cover: \n\nThe cost of living in Cyprus\nThe taxes you do and don’t have to pay\nInteractive Q&A session\n\nRegistration is free\, so sign up today! \nCan’t make that time? No problem\, register and you will receive a recording of the webinar. \nHolborn Assets have helped over 20\,000 international clients over the past 25 years\, from their 19 global offices. This year they were winner of the “Excellence in Citizenship Services” award at the Investment Awards 2024.
URL:https://www.youroverseashome.com/event/sunshine-and-low-tax-why-moving-to-cyprus-makes-financial-sense/
CATEGORIES:Cyprus
ATTACH;FMTTYPE=image/jpeg:https://www.youroverseashome.com/cdn-cgi/imagedelivery/ydQrSxxeWMqiiuwLdb7wWg/www.youroverseashome.com/2024/12/Sunshine-and-low-tax-why-moving-to-Cyprus-makes-financial-sense.jpeg/w=9999
END:VEVENT
END:VCALENDAR