BEGIN:VCALENDAR
VERSION:2.0
PRODID:-//Your Overseas Home - ECPv6.15.11//NONSGML v1.0//EN
CALSCALE:GREGORIAN
METHOD:PUBLISH
X-ORIGINAL-URL:https://www.youroverseashome.com
X-WR-CALDESC:Events for Your Overseas Home
REFRESH-INTERVAL;VALUE=DURATION:PT1H
X-Robots-Tag:noindex
X-PUBLISHED-TTL:PT1H
BEGIN:VTIMEZONE
TZID:Europe/London
BEGIN:DAYLIGHT
TZOFFSETFROM:+0000
TZOFFSETTO:+0100
TZNAME:BST
DTSTART:20230326T010000
END:DAYLIGHT
BEGIN:STANDARD
TZOFFSETFROM:+0100
TZOFFSETTO:+0000
TZNAME:GMT
DTSTART:20231029T010000
END:STANDARD
BEGIN:DAYLIGHT
TZOFFSETFROM:+0000
TZOFFSETTO:+0100
TZNAME:BST
DTSTART:20240331T010000
END:DAYLIGHT
BEGIN:STANDARD
TZOFFSETFROM:+0100
TZOFFSETTO:+0000
TZNAME:GMT
DTSTART:20241027T010000
END:STANDARD
BEGIN:DAYLIGHT
TZOFFSETFROM:+0000
TZOFFSETTO:+0100
TZNAME:BST
DTSTART:20250330T010000
END:DAYLIGHT
BEGIN:STANDARD
TZOFFSETFROM:+0100
TZOFFSETTO:+0000
TZNAME:GMT
DTSTART:20251026T010000
END:STANDARD
END:VTIMEZONE
BEGIN:VEVENT
DTSTART;TZID=Europe/London:20240725T153000
DTEND;TZID=Europe/London:20240725T160000
DTSTAMP:20260422T074007
CREATED:20240620T135939Z
LAST-MODIFIED:20240620T135939Z
UID:10000429-1721921400-1721923200@www.youroverseashome.com
SUMMARY:Buying in Cyprus: Finding the right location for you & your lifestyle
DESCRIPTION:Looking for your dream home in Cyprus? Learn about the Cypriot property market\, property types and lifestyle across regions\, and the buying process from Helen Daniilidou\, an estate agent from Emerald Property Consultants based in Cyprus.
URL:https://www.youroverseashome.com/event/buying-in-cyprus-finding-the-right-location-for-you-your-lifestyle/
CATEGORIES:Cyprus
ATTACH;FMTTYPE=image/png:https://www.youroverseashome.com/cdn-cgi/imagedelivery/ydQrSxxeWMqiiuwLdb7wWg/www.youroverseashome.com/2024/06/Fountain-in-Saint-George-monastery-Cyprus-Thumbnail.png/w=9999
END:VEVENT
END:VCALENDAR