BEGIN:VCALENDAR
VERSION:2.0
PRODID:-//Your Overseas Home - ECPv6.15.11//NONSGML v1.0//EN
CALSCALE:GREGORIAN
METHOD:PUBLISH
X-ORIGINAL-URL:https://www.youroverseashome.com
X-WR-CALDESC:Events for Your Overseas Home
REFRESH-INTERVAL;VALUE=DURATION:PT1H
X-Robots-Tag:noindex
X-PUBLISHED-TTL:PT1H
BEGIN:VTIMEZONE
TZID:Europe/London
BEGIN:DAYLIGHT
TZOFFSETFROM:+0000
TZOFFSETTO:+0100
TZNAME:BST
DTSTART:20230326T010000
END:DAYLIGHT
BEGIN:STANDARD
TZOFFSETFROM:+0100
TZOFFSETTO:+0000
TZNAME:GMT
DTSTART:20231029T010000
END:STANDARD
BEGIN:DAYLIGHT
TZOFFSETFROM:+0000
TZOFFSETTO:+0100
TZNAME:BST
DTSTART:20240331T010000
END:DAYLIGHT
BEGIN:STANDARD
TZOFFSETFROM:+0100
TZOFFSETTO:+0000
TZNAME:GMT
DTSTART:20241027T010000
END:STANDARD
BEGIN:DAYLIGHT
TZOFFSETFROM:+0000
TZOFFSETTO:+0100
TZNAME:BST
DTSTART:20250330T010000
END:DAYLIGHT
BEGIN:STANDARD
TZOFFSETFROM:+0100
TZOFFSETTO:+0000
TZNAME:GMT
DTSTART:20251026T010000
END:STANDARD
END:VTIMEZONE
BEGIN:VEVENT
DTSTART;TZID=Europe/London:20240704T163000
DTEND;TZID=Europe/London:20240704T170000
DTSTAMP:20260422T073957
CREATED:20240522T114735Z
LAST-MODIFIED:20240703T071015Z
UID:10000426-1720110600-1720112400@www.youroverseashome.com
SUMMARY:Tax considerations and relocating to Cyprus
DESCRIPTION:Get clear\, unbiased\, and jargon-free financial advice on property buying in Cyprus. Our trusted experts from Chase Buchanan Wealth Management will explain the taxes you may have to pay\, how to access your pension and other financial considerations.
URL:https://www.youroverseashome.com/event/tax-considerations-and-relocating-to-cyprus/
CATEGORIES:Cyprus
ATTACH;FMTTYPE=image/png:https://www.youroverseashome.com/cdn-cgi/imagedelivery/ydQrSxxeWMqiiuwLdb7wWg/www.youroverseashome.com/2024/05/Paphos-lighthouse-Cyprus-Thumbnail.png/w=9999
END:VEVENT
END:VCALENDAR