BEGIN:VCALENDAR
VERSION:2.0
PRODID:-//Your Overseas Home - ECPv6.15.11//NONSGML v1.0//EN
CALSCALE:GREGORIAN
METHOD:PUBLISH
X-ORIGINAL-URL:https://www.youroverseashome.com
X-WR-CALDESC:Events for Your Overseas Home
REFRESH-INTERVAL;VALUE=DURATION:PT1H
X-Robots-Tag:noindex
X-PUBLISHED-TTL:PT1H
BEGIN:VTIMEZONE
TZID:Europe/London
BEGIN:DAYLIGHT
TZOFFSETFROM:+0000
TZOFFSETTO:+0100
TZNAME:BST
DTSTART:20230326T010000
END:DAYLIGHT
BEGIN:STANDARD
TZOFFSETFROM:+0100
TZOFFSETTO:+0000
TZNAME:GMT
DTSTART:20231029T010000
END:STANDARD
BEGIN:DAYLIGHT
TZOFFSETFROM:+0000
TZOFFSETTO:+0100
TZNAME:BST
DTSTART:20240331T010000
END:DAYLIGHT
BEGIN:STANDARD
TZOFFSETFROM:+0100
TZOFFSETTO:+0000
TZNAME:GMT
DTSTART:20241027T010000
END:STANDARD
BEGIN:DAYLIGHT
TZOFFSETFROM:+0000
TZOFFSETTO:+0100
TZNAME:BST
DTSTART:20250330T010000
END:DAYLIGHT
BEGIN:STANDARD
TZOFFSETFROM:+0100
TZOFFSETTO:+0000
TZNAME:GMT
DTSTART:20251026T010000
END:STANDARD
END:VTIMEZONE
BEGIN:VEVENT
DTSTART;TZID=Europe/London:20240118T163000
DTEND;TZID=Europe/London:20240118T170000
DTSTAMP:20260422T172232
CREATED:20231228T115704Z
LAST-MODIFIED:20231228T115704Z
UID:10000295-1705595400-1705597200@www.youroverseashome.com
SUMMARY:Dream Cyprus holiday home in the sun – central location close to the sea
DESCRIPTION:Are you looking to buy a property in Cyprus? Somewhere affordable and close to the sea? Perhaps you’re looking to rent it out? Our partner estate agents from Cyprus Emerald share details on a brand-new development in Pyla\, Larnaca: Global Residence Apartments. Tune into this webinar to ask your very own questions\, find out when the development will be completed and how much it costs to get involved.
URL:https://www.youroverseashome.com/event/dream-cyprus-holiday-home-in-the-sun-central-location-close-to-the-sea/
CATEGORIES:Cyprus
ATTACH;FMTTYPE=image/png:https://www.youroverseashome.com/cdn-cgi/imagedelivery/ydQrSxxeWMqiiuwLdb7wWg/www.youroverseashome.com/2023/12/Global-Residence-Cyprus-Emerald-1-Cyprus-Thumbnail.png/w=9999
END:VEVENT
END:VCALENDAR